
BEGIN:VCALENDAR
VERSION:2.0
PRODID:-//eventon.com NONSGML v1.0//EN
BEGIN:VEVENT
UID:69eb1393688ab
DTSTAMP:20260424T005411
DTSTART:20270326T230000Z
DTEND:20270327T010000Z
TZID:America/Chicago
LOCATION:Indoor Farmer&#039;s Market 308 Prince St. E
SUMMARY:Market Fresh Cooking Classes with Chef Sina
DESCRIPTION: \nhttps://stpaulfarmersmarket.com/events/market-fresh-cooking-classes-with-chef-sina/var/ri-11.l-L1
URL:https://stpaulfarmersmarket.com/events/market-fresh-cooking-classes-with-chef-sina/var/ri-11.l-L1
END:VEVENT
END:VCALENDAR