
BEGIN:VCALENDAR
VERSION:2.0
PRODID:-//eventon.com NONSGML v1.0//EN
BEGIN:VEVENT
UID:69eafd72d28e9
DTSTAMP:20260423T231946
DTSTART:20270227T000000Z
DTEND:20270227T020000Z
TZID:America/Chicago
LOCATION:Indoor Farmer&#039;s Market 308 Prince St. E
SUMMARY:Market Fresh Cooking Classes with Chef Sina
DESCRIPTION: \nhttps://stpaulfarmersmarket.com/events/market-fresh-cooking-classes-with-chef-sina/var/ri-10.l-L1
URL:https://stpaulfarmersmarket.com/events/market-fresh-cooking-classes-with-chef-sina/var/ri-10.l-L1
END:VEVENT
END:VCALENDAR