
BEGIN:VCALENDAR
VERSION:2.0
PRODID:-//eventon.com NONSGML v1.0//EN
BEGIN:VEVENT
UID:69ea641bd9a56
DTSTAMP:20260423T122531
DTSTART:20260529T230000Z
DTEND:20260530T010000Z
TZID:America/Chicago
LOCATION:Indoor Farmer&#039;s Market 308 Prince St. E
SUMMARY:Market Fresh Cooking Classes with Chef Sina
DESCRIPTION: \nhttps://stpaulfarmersmarket.com/events/market-fresh-cooking-classes-with-chef-sina/var/ri-1.l-L1
URL:https://stpaulfarmersmarket.com/events/market-fresh-cooking-classes-with-chef-sina/var/ri-1.l-L1
END:VEVENT
END:VCALENDAR