
BEGIN:VCALENDAR
VERSION:2.0
PRODID:-//eventon.com NONSGML v1.0//EN
BEGIN:VEVENT
UID:69ea63cd341be
DTSTAMP:20260423T122413
DTSTART:20260424T230000Z
DTEND:20260425T010000Z
TZID:America/Chicago
LOCATION:Indoor Farmer&#039;s Market 308 Prince St. E
SUMMARY:Market Fresh Cooking Classes with Chef Sina
DESCRIPTION: \nhttps://stpaulfarmersmarket.com/events/market-fresh-cooking-classes-with-chef-sina/
URL:https://stpaulfarmersmarket.com/events/market-fresh-cooking-classes-with-chef-sina/
END:VEVENT
END:VCALENDAR