
BEGIN:VCALENDAR
VERSION:2.0
PRODID:-//eventon.com NONSGML v1.0//EN
BEGIN:VEVENT
UID:69ea49a67f0cf
DTSTAMP:20260423T103238
DTSTART:20260621T120000Z
DTEND:20260621T180000Z
TZID:America/Chicago
LOCATION:Indoor Farmer&#039;s Market 308 Prince St. E
SUMMARY:St. Paul Indoor Farmers' Market: Lowertown Saturdays
DESCRIPTION: \nhttps://stpaulfarmersmarket.com/events/st-paul-indoor-farmers-market-lowertown-saturdays-3/var/ri-17.l-L1
URL:https://stpaulfarmersmarket.com/events/st-paul-indoor-farmers-market-lowertown-saturdays-3/var/ri-17.l-L1
END:VEVENT
END:VCALENDAR