
BEGIN:VCALENDAR
VERSION:2.0
PRODID:-//eventon.com NONSGML v1.0//EN
BEGIN:VEVENT
UID:69ea4a041aba6
DTSTAMP:20260423T103412
DTSTART:20260809T130000Z
DTEND:20260809T180000Z
TZID:America/Chicago
LOCATION:Indoor Farmer&#039;s Market 308 Prince St. E
SUMMARY:St. Paul Indoor Farmers' Market: Lowertown Sundays
DESCRIPTION: \nhttps://stpaulfarmersmarket.com/events/st-paul-indoor-farmers-market-lowertown-sundays-3/var/ri-15.l-L1
URL:https://stpaulfarmersmarket.com/events/st-paul-indoor-farmers-market-lowertown-sundays-3/var/ri-15.l-L1
END:VEVENT
END:VCALENDAR