
BEGIN:VCALENDAR
VERSION:2.0
PRODID:-//eventon.com NONSGML v1.0//EN
BEGIN:VEVENT
UID:69ea63b04167b
DTSTAMP:20260423T122344
DTSTART:20260726T130000Z
DTEND:20260726T180000Z
TZID:America/Chicago
LOCATION:Indoor Farmer&#039;s Market 308 Prince St. E
SUMMARY:St. Paul Indoor Farmers' Market: Lowertown Sundays
DESCRIPTION: \nhttps://stpaulfarmersmarket.com/events/st-paul-indoor-farmers-market-lowertown-sundays-3/var/ri-13.l-L1
URL:https://stpaulfarmersmarket.com/events/st-paul-indoor-farmers-market-lowertown-sundays-3/var/ri-13.l-L1
END:VEVENT
END:VCALENDAR