
BEGIN:VCALENDAR
VERSION:2.0
PRODID:-//eventon.com NONSGML v1.0//EN
BEGIN:VEVENT
UID:69ea63cf86362
DTSTAMP:20260423T122415
DTSTART:20260527T120000Z
DTEND:20260527T200000Z
TZID:America/Chicago
LOCATION:Indoor Farmer&#039;s Market 308 Prince St. E
SUMMARY:Country Store + Galvan's Tortilleria Hours
DESCRIPTION: \nhttps://stpaulfarmersmarket.com/events/country-store-hours/var/ri-71.l-L1
URL:https://stpaulfarmersmarket.com/events/country-store-hours/var/ri-71.l-L1
END:VEVENT
END:VCALENDAR