
BEGIN:VCALENDAR
VERSION:2.0
PRODID:-//eventon.com NONSGML v1.0//EN
BEGIN:VEVENT
UID:69eab4bf06f10
DTSTAMP:20260423T180935
DTSTART:20260409T120000Z
DTEND:20260409T200000Z
TZID:America/Chicago
LOCATION:Indoor Farmer&#039;s Market 308 Prince St. E
SUMMARY:Country Store + Galvan's Tortilleria Hours
DESCRIPTION: \nhttps://stpaulfarmersmarket.com/events/country-store-hours/var/ri-30.l-L1
URL:https://stpaulfarmersmarket.com/events/country-store-hours/var/ri-30.l-L1
END:VEVENT
END:VCALENDAR