
BEGIN:VCALENDAR
VERSION:2.0
PRODID:-//eventon.com NONSGML v1.0//EN
BEGIN:VEVENT
UID:69ea64b96a118
DTSTAMP:20260423T122809
DTSTART:20260813T120000Z
DTEND:20260813T200000Z
TZID:America/Chicago
LOCATION:Indoor Farmer&#039;s Market 308 Prince St. E
SUMMARY:Country Store + Galvan's Tortilleria Hours
DESCRIPTION: \nhttps://stpaulfarmersmarket.com/events/country-store-hours/var/ri-138.l-L1
URL:https://stpaulfarmersmarket.com/events/country-store-hours/var/ri-138.l-L1
END:VEVENT
END:VCALENDAR