
BEGIN:VCALENDAR
VERSION:2.0
PRODID:-//eventon.com NONSGML v1.0//EN
BEGIN:VEVENT
UID:69ea6466c3468
DTSTAMP:20260423T122646
DTSTART:20260718T120000Z
DTEND:20260718T200000Z
TZID:America/Chicago
LOCATION:Indoor Farmer&#039;s Market 308 Prince St. E
SUMMARY:Country Store + Galvan's Tortilleria Hours
DESCRIPTION: \nhttps://stpaulfarmersmarket.com/events/country-store-hours/var/ri-116.l-L1
URL:https://stpaulfarmersmarket.com/events/country-store-hours/var/ri-116.l-L1
END:VEVENT
END:VCALENDAR