
BEGIN:VCALENDAR
VERSION:2.0
PRODID:-//eventon.com NONSGML v1.0//EN
BEGIN:VEVENT
UID:69ea643422184
DTSTAMP:20260423T122556
DTSTART:20260711T120000Z
DTEND:20260711T200000Z
TZID:America/Chicago
LOCATION:Indoor Farmer&#039;s Market 308 Prince St. E
SUMMARY:Country Store + Galvan's Tortilleria Hours
DESCRIPTION: \nhttps://stpaulfarmersmarket.com/events/country-store-hours/var/ri-110.l-L1
URL:https://stpaulfarmersmarket.com/events/country-store-hours/var/ri-110.l-L1
END:VEVENT
END:VCALENDAR