
BEGIN:VCALENDAR
VERSION:2.0
PRODID:-//eventon.com NONSGML v1.0//EN
BEGIN:VEVENT
UID:69e88de256561
DTSTAMP:20260422T025914
DTSTART:20260411T191600Z
DTEND:20260411T191600Z
TZID:America/Chicago
LOCATION:Indoor Farmer&#039;s Market 308 Prince St. E
SUMMARY:St. Paul Indoor Farmers' Market: Lowertown Sundays
DESCRIPTION: \nhttps://stpaulfarmersmarket.com/?post_type=ajde_events&p=7008171&var=ri-1.l-L1
URL:https://stpaulfarmersmarket.com/?post_type=ajde_events&p=7008171&var=ri-1.l-L1
END:VEVENT
END:VCALENDAR