
BEGIN:VCALENDAR
VERSION:2.0
PRODID:-//eventon.com NONSGML v1.0//EN
BEGIN:VEVENT
UID:69ea6550d4135
DTSTAMP:20260423T123040
DTSTART:20260418T140000Z
DTEND:20260418T180000Z
TZID:America/Chicago
LOCATION:Indoor Farmer&#039;s Market 308 Prince St. E
SUMMARY:St. Paul Indoor Farmers' Market: Lowertown Saturdays.
DESCRIPTION: \nhttps://stpaulfarmersmarket.com/events/st-paul-indoor-farmers-market-lowertown-saturdays-2/var/ri-19.l-L1
URL:https://stpaulfarmersmarket.com/events/st-paul-indoor-farmers-market-lowertown-saturdays-2/var/ri-19.l-L1
END:VEVENT
END:VCALENDAR