
BEGIN:VCALENDAR
VERSION:2.0
PRODID:-//eventon.com NONSGML v1.0//EN
BEGIN:VEVENT
UID:69e76ad29ea32
DTSTAMP:20260421T061722
DTSTART:20251206T150000Z
DTEND:20251206T190000Z
TZID:America/Chicago
LOCATION:Indoor Farmer&#039;s Market 308 Prince St. E
SUMMARY:St. Paul Indoor Farmers' Market: Lowertown Saturdays.
DESCRIPTION: \nhttps://stpaulfarmersmarket.com/events/st-paul-indoor-farmers-market-lowertown-saturdays-2/
URL:https://stpaulfarmersmarket.com/events/st-paul-indoor-farmers-market-lowertown-saturdays-2/
END:VEVENT
END:VCALENDAR