
BEGIN:VCALENDAR
VERSION:2.0
PRODID:-//eventon.com NONSGML v1.0//EN
BEGIN:VEVENT
UID:69e88cae472e1
DTSTAMP:20260422T025406
DTSTART:20241215T150000Z
DTEND:20241216T010000Z
TZID:America/Chicago
LOCATION:
SUMMARY:Christmas Trees Available
DESCRIPTION: \nhttps://stpaulfarmersmarket.com/events/christmas-trees-available-3/var/ri-2.l-L1
URL:https://stpaulfarmersmarket.com/events/christmas-trees-available-3/var/ri-2.l-L1
END:VEVENT
END:VCALENDAR