
BEGIN:VCALENDAR
VERSION:2.0
PRODID:-//eventon.com NONSGML v1.0//EN
BEGIN:VEVENT
UID:69e88e489d121
DTSTAMP:20260422T030056
DTSTART:20250622T130000Z
DTEND:20250622T180000Z
TZID:America/Chicago
LOCATION:Inver Grove Heights Market 8055 Barbara Ave
SUMMARY:Inver Grove Heights Farmers' Market at the Community Center
DESCRIPTION: \nhttps://stpaulfarmersmarket.com/events/inver-grove-heights-farmers-market-at-the-community-center/var/ri-2.l-L1
URL:https://stpaulfarmersmarket.com/events/inver-grove-heights-farmers-market-at-the-community-center/var/ri-2.l-L1
END:VEVENT
END:VCALENDAR