
BEGIN:VCALENDAR
VERSION:2.0
PRODID:-//eventon.com NONSGML v1.0//EN
BEGIN:VEVENT
UID:69e73d21b711f
DTSTAMP:20260421T030225
DTSTART:20260522T181500Z
DTEND:20260522T220000Z
TZID:America/Chicago
LOCATION:House of Hope Market 760 Summit Ave
SUMMARY:St. Paul Farmers' Market at House of Hope Church
DESCRIPTION: \nhttps://stpaulfarmersmarket.com/events/st-paul-farmers-market-at-house-of-hope-church/var/ri-2.l-L1
URL:https://stpaulfarmersmarket.com/events/st-paul-farmers-market-at-house-of-hope-church/var/ri-2.l-L1
END:VEVENT
END:VCALENDAR